BEGIN:VCALENDAR
VERSION:2.0
PRODID:-//Sanity Lounge - ECPv6.15.12.2//NONSGML v1.0//EN
CALSCALE:GREGORIAN
METHOD:PUBLISH
X-ORIGINAL-URL:https://sanitylounge.com
X-WR-CALDESC:Events for Sanity Lounge
REFRESH-INTERVAL;VALUE=DURATION:PT1H
X-Robots-Tag:noindex
X-PUBLISHED-TTL:PT1H
BEGIN:VTIMEZONE
TZID:UTC
BEGIN:STANDARD
TZOFFSETFROM:+0000
TZOFFSETTO:+0000
TZNAME:UTC
DTSTART:20230101T000000
END:STANDARD
END:VTIMEZONE
BEGIN:VEVENT
DTSTART;TZID=UTC:20241110T110000
DTEND;TZID=UTC:20241110T140000
DTSTAMP:20260423T052008
CREATED:20241019T010720Z
LAST-MODIFIED:20241019T010720Z
UID:10000844-1731236400-1731247200@sanitylounge.com
SUMMARY:Eddie Hrybyk Trio with Special Guest Shaquim Muldrow @ The Brass Tap Baltimore
DESCRIPTION:Featuring the Eddie Hrybyk trio with special guest Shaquim Muldrow\, join us for Baltimore’s hottest brunch – every Sunday from 11am to 2pm! \nThe Brass Tap Baltimore
URL:https://sanitylounge.com/new-event/eddie-hrybyk-trio-with-special-guest-shaquim-muldrow-the-brass-tap-baltimore/2024-11-10/
CATEGORIES:Brunch,Jazz
ATTACH;FMTTYPE=image/jpeg:https://sanitylounge.com/wp-content/uploads/2024/09/Shaquim.jpeg
END:VEVENT
BEGIN:VEVENT
DTSTART;TZID=UTC:20241110T170000
DTEND;TZID=UTC:20241110T200000
DTSTAMP:20260423T052008
CREATED:20241105T002020Z
LAST-MODIFIED:20241105T003419Z
UID:10001654-1731258000-1731268800@sanitylounge.com
SUMMARY:Bound by Harmony
DESCRIPTION:Join Baltimore’s newest professional choral ensemble for an evocative musical journey that explores the profound connections between humankind and the themes of nature\, faith\, love\, and loss. Experience a powerful performance that celebrates the beauty and complexity of our shared human experience. \nClick Here For Tickets
URL:https://sanitylounge.com/new-event/bound-by-harmony/
LOCATION:Grace and St Peter’s Episcopal Church\, 707 Park Ave\, Baltimore\, Maryland\, 21201
CATEGORIES:Choir,Live Music,Music
ATTACH;FMTTYPE=image/jpeg:https://sanitylounge.com/wp-content/uploads/2024/11/IMG_9936-scaled.jpeg
END:VEVENT
END:VCALENDAR