BEGIN:VCALENDAR
VERSION:2.0
PRODID:-//Sanity Lounge - ECPv6.15.12.2//NONSGML v1.0//EN
CALSCALE:GREGORIAN
METHOD:PUBLISH
X-WR-CALNAME:Sanity Lounge
X-ORIGINAL-URL:https://sanitylounge.com
X-WR-CALDESC:Events for Sanity Lounge
REFRESH-INTERVAL;VALUE=DURATION:PT1H
X-Robots-Tag:noindex
X-PUBLISHED-TTL:PT1H
BEGIN:VTIMEZONE
TZID:UTC
BEGIN:STANDARD
TZOFFSETFROM:+0000
TZOFFSETTO:+0000
TZNAME:UTC
DTSTART:20230101T000000
END:STANDARD
END:VTIMEZONE
BEGIN:VEVENT
DTSTART;TZID=UTC:20241120T190000
DTEND;TZID=UTC:20241120T220000
DTSTAMP:20260423T042724
CREATED:20241111T162711Z
LAST-MODIFIED:20241111T162711Z
UID:10001655-1732129200-1732140000@sanitylounge.com
SUMMARY:Christine Havrilla Duo @ The Woodshed at Nate's Place
DESCRIPTION:Award-winning Philadelphia native Christine Havrilla brings her “well-built\, catchy\, smart tunes” (Upstage \nMagazine) to audiences everywhere\, touring solo and also with the support of her band\, Gypsy Fuzz. A new EP was \nreleased in the Spring of 2024 called NONE OF YOU! This EP includes the bluesy rocker “None of You”\, positive \ncatchy pop-rock “Today\, Today”\, darker rocking “Fade”\, Americana “Broken Wing’\, and a waltzing ballad “Just \nDo You”! Recorded at Cambridge Sound Studios\, this EP is sure to leave a lasting impression! Christine utilizes \nthe soft gritty texture of her vocals to express warmth and honesty listeners quickly embrace as well as her \naggressive\, raw\, trash-style guitar playing and looping. \nWXPN’s The Key raves\, “Rock and roll singer-songwriter Christine Havrilla has been a local favorite since the 90s\, \nand her high-energy music is kindred is spirit with Sheryl Crow\, Grace Potter\, Brandi Carlile\, and Lucinda Williams!” \nThe Journal of Roots Music listed Christine in the article named “Through the Lens: Women Leading the Way in \nRoots Music”(November 2021) What’s Up Magazine exclaims\, “Christine breaks out the gasoline and sets fire to \nthe typical Roots/Folk genre with blazing guitars.” Lisa Bryant of Delmarva Life WBOC declares\, &quot;As soon as they \nstarted playing\, we knew this was a group with incredible talent\, a group that would “wow” anyone who was lucky \nenough to hear them perform!&quot; Ed Kiggins of inD Round raves\, “Christine is one of the hardest working women in \nmusic. With her child prodigy-come-of-age guitar virtuosity\, a supremely passionate and emotive voice\, and an \narsenal of wonder-songs that have endeared her to a loving and devoted audience\, she is in a class all of her \nown…we simply call her brilliant!” \nWith the Covid difficulties that affected all musicians starting in 2020 plus a cancer diagnosis\, Christine pressed on \nwith many virtual opportunities which included WHYY picking up the band’s Covid quarantine video of “Desire” for \ntheir House Concert Series 2020 while WXPN’s The Key (August 2020) raved about the same video saying\, “The \nsong is a jagged rocker reminiscent of Sheryl Crow and Bonnie Raitt!” Christine was also featured on WDIY’s Parlor \nSessions\, Sellersville Theatre’s Soundbooth Sessions\, Wawa’s Welcome America 4 th  of July Event\, and World Café \nLive’s House Concerts to name a few. The Dover Post (2019) exclaims\, &quot;Christine Havrilla is a tough-as-nails front- \nwoman with a serious habit of rocking a plethora of stages.&quot;  Nor’easter Magazine states\, “Christine Havrilla is a \ncreative\, talented powerhouse wrapped up in one complete package!” Steel Notes Magazine says\, “This ambitious \nPhilly native manifests her talent in certain ways that allows her to create eclectic music which will grab your heart \nand leave a lasting memory.” The Washington Post writes\, “(Havrilla’s) songs are intelligent and moving\, the \narrangements are incisive and colorful\, and\, best of all\, Havrilla consistently comes across as a confident and \nseasoned performer.” \nChristine has also shared the stage with an eclectic list of artists like Brandi Carlile\, KT Tunstall\, Shawn Colvin\, Chely \nWright\, Howard Jones\, Jeffrey Gaines\, America\, Trigger Hippy\, Lynyrd Skynyrd\, Jill Sobule\, Janis Ian\, Patty Larkin\, \nKarla Bonoff\, Christopher Cross\, Susan Werner\, Vienna Teng\, Antigone Rising\, Dave Mason\, &amp; Davy Knowels. Listed \nwith Takamine Guitar’s Worldwide Artists\, Clayton Picks\, and Telefunken Microphones\, she was also a featured \nArtist for American Musical Supply’s Singer/Songwriter Month\, nominated for  About.com &#39;s Reader&#39;s Choice \nAwards\, and awarded the 2010 Garden State Film Festival’s “Best Contemporary Country Song” for “Blinders”. \nChristine’s song “Daffodil” was listed as #40 in the Top 50 Songs by Delaware Artists Since the Dawn of Rock “n” \nRoll by Delaware Today Magazine (Nov 2021) plus her song “Hail” won the “2019 Homey Awards” for “Best \nCountry/American Song! Christine performed at Sundance Film Festival in 2020. Michaela Majoun\, former DJ \nfrom 88.5 WXPN\, applauds her &quot;terrific\, big sound”\, while Philadelphia Magazine states\, “She rocks!” \nChristine\, a self-taught musician since the age of 5\, Christine has 17 studio recordings under her belt\, as more new \nand old music is being prepared for her next “Lost Songs” album. Christine continues to write\, play bass for \nMama’s Black Sheep\, and work on an electronic-acoustic side-project with Colleen Clark called ALLIR MUSIC! \nwww.ChristineHavrilla.com \nPlease join us in welcoming the Christine Havrilla Duo to the Woodshed!!
URL:https://sanitylounge.com/new-event/christine-havrilla-duo-the-woodshed-at-nates-place/
LOCATION:The Woodshed at Nate’s Place\, Baltimore\, Maryland
CATEGORIES:Blues,Live Music,Music,Rock
ATTACH;FMTTYPE=image/jpeg:https://sanitylounge.com/wp-content/uploads/2024/11/ChristineColleenbw2022copy.jpeg
END:VEVENT
END:VCALENDAR