BEGIN:VCALENDAR
VERSION:2.0
PRODID:-//Sanity Lounge - ECPv6.15.12.2//NONSGML v1.0//EN
CALSCALE:GREGORIAN
METHOD:PUBLISH
X-WR-CALNAME:Sanity Lounge
X-ORIGINAL-URL:https://sanitylounge.com
X-WR-CALDESC:Events for Sanity Lounge
REFRESH-INTERVAL;VALUE=DURATION:PT1H
X-Robots-Tag:noindex
X-PUBLISHED-TTL:PT1H
BEGIN:VTIMEZONE
TZID:UTC
BEGIN:STANDARD
TZOFFSETFROM:+0000
TZOFFSETTO:+0000
TZNAME:UTC
DTSTART:20230101T000000
END:STANDARD
END:VTIMEZONE
BEGIN:VEVENT
DTSTART;TZID=UTC:20241215T110000
DTEND;TZID=UTC:20241215T140000
DTSTAMP:20260422T215717
CREATED:20241019T011052Z
LAST-MODIFIED:20241019T011232Z
UID:10000860-1734260400-1734271200@sanitylounge.com
SUMMARY:Eddie Hrybyk Trio with Special Guest Charlie Ballantine @ The Brass Tap Baltimore
DESCRIPTION:Featuring the Eddie Hrybyk trio with special guest Charlie Ballantine\, join us for Baltimore’s hottest brunch – every Sunday from 11am to 2pm! \nThe Brass Tap Baltimore
URL:https://sanitylounge.com/new-event/eddie-hrybyk-trio-with-special-guest-charlie-ballantine-the-brass-tap-baltimore-3/2024-12-15/
CATEGORIES:Brunch,Jazz
ATTACH;FMTTYPE=image/jpeg:https://sanitylounge.com/wp-content/uploads/2024/09/Charlie.jpeg
END:VEVENT
END:VCALENDAR