BEGIN:VCALENDAR
VERSION:2.0
PRODID:-//Sanity Lounge - ECPv6.15.12.2//NONSGML v1.0//EN
CALSCALE:GREGORIAN
METHOD:PUBLISH
X-ORIGINAL-URL:https://sanitylounge.com
X-WR-CALDESC:Events for Sanity Lounge
REFRESH-INTERVAL;VALUE=DURATION:PT1H
X-Robots-Tag:noindex
X-PUBLISHED-TTL:PT1H
BEGIN:VTIMEZONE
TZID:UTC
BEGIN:STANDARD
TZOFFSETFROM:+0000
TZOFFSETTO:+0000
TZNAME:UTC
DTSTART:20280101T000000
END:STANDARD
END:VTIMEZONE
BEGIN:VEVENT
DTSTART;TZID=UTC:20290806T200000
DTEND;TZID=UTC:20290808T000000
DTSTAMP:20260420T073020
CREATED:20241030T135644Z
LAST-MODIFIED:20241114T144307Z
UID:10001641-1880740800-1880841600@sanitylounge.com
SUMMARY:Ricky Wise Trio @ The Admirals Cup
DESCRIPTION:The Ricky Wise Trio: Energetic and Dynamic Rock & Soul Music (feat. Ricky Wise\, drums\, vox; James O’Connell\, guitar\, vox; and Jeff Reed\, bass\, vox) Come join the journey with the music you’ve loved\, and the music we’ll introduce you to. \nwww.rickylovesyou.com
URL:https://sanitylounge.com/new-event/ricky-wise-trio-the-admirals-cup/2029-08-06/
LOCATION:The Admirals Cup\, 1647 Thames St\, Baltimore\, Maryland\, 21231
CATEGORIES:80's Music,Acoustic,Blues,Folk,Funk,Jam Band,Jazz,Music,Pop Rock,Rock
ATTACH;FMTTYPE=image/jpeg:https://sanitylounge.com/wp-content/uploads/2024/10/459849595_10161359217970041_6841672968333871070_n.jpg
END:VEVENT
BEGIN:VEVENT
DTSTART;TZID=UTC:20290813T200000
DTEND;TZID=UTC:20290815T000000
DTSTAMP:20260420T073020
CREATED:20241030T135644Z
LAST-MODIFIED:20241114T144307Z
UID:10001642-1881345600-1881446400@sanitylounge.com
SUMMARY:Ricky Wise Trio @ The Admirals Cup
DESCRIPTION:The Ricky Wise Trio: Energetic and Dynamic Rock & Soul Music (feat. Ricky Wise\, drums\, vox; James O’Connell\, guitar\, vox; and Jeff Reed\, bass\, vox) Come join the journey with the music you’ve loved\, and the music we’ll introduce you to. \nwww.rickylovesyou.com
URL:https://sanitylounge.com/new-event/ricky-wise-trio-the-admirals-cup/2029-08-13/
LOCATION:The Admirals Cup\, 1647 Thames St\, Baltimore\, Maryland\, 21231
CATEGORIES:80's Music,Acoustic,Blues,Folk,Funk,Jam Band,Jazz,Music,Pop Rock,Rock
ATTACH;FMTTYPE=image/jpeg:https://sanitylounge.com/wp-content/uploads/2024/10/459849595_10161359217970041_6841672968333871070_n.jpg
END:VEVENT
BEGIN:VEVENT
DTSTART;TZID=UTC:20290820T200000
DTEND;TZID=UTC:20290822T000000
DTSTAMP:20260420T073020
CREATED:20241030T135644Z
LAST-MODIFIED:20241114T144307Z
UID:10001643-1881950400-1882051200@sanitylounge.com
SUMMARY:Ricky Wise Trio @ The Admirals Cup
DESCRIPTION:The Ricky Wise Trio: Energetic and Dynamic Rock & Soul Music (feat. Ricky Wise\, drums\, vox; James O’Connell\, guitar\, vox; and Jeff Reed\, bass\, vox) Come join the journey with the music you’ve loved\, and the music we’ll introduce you to. \nwww.rickylovesyou.com
URL:https://sanitylounge.com/new-event/ricky-wise-trio-the-admirals-cup/2029-08-20/
LOCATION:The Admirals Cup\, 1647 Thames St\, Baltimore\, Maryland\, 21231
CATEGORIES:80's Music,Acoustic,Blues,Folk,Funk,Jam Band,Jazz,Music,Pop Rock,Rock
ATTACH;FMTTYPE=image/jpeg:https://sanitylounge.com/wp-content/uploads/2024/10/459849595_10161359217970041_6841672968333871070_n.jpg
END:VEVENT
BEGIN:VEVENT
DTSTART;TZID=UTC:20290827T200000
DTEND;TZID=UTC:20290829T000000
DTSTAMP:20260420T073020
CREATED:20241030T135644Z
LAST-MODIFIED:20241114T144307Z
UID:10001644-1882555200-1882656000@sanitylounge.com
SUMMARY:Ricky Wise Trio @ The Admirals Cup
DESCRIPTION:The Ricky Wise Trio: Energetic and Dynamic Rock & Soul Music (feat. Ricky Wise\, drums\, vox; James O’Connell\, guitar\, vox; and Jeff Reed\, bass\, vox) Come join the journey with the music you’ve loved\, and the music we’ll introduce you to. \nwww.rickylovesyou.com
URL:https://sanitylounge.com/new-event/ricky-wise-trio-the-admirals-cup/2029-08-27/
LOCATION:The Admirals Cup\, 1647 Thames St\, Baltimore\, Maryland\, 21231
CATEGORIES:80's Music,Acoustic,Blues,Folk,Funk,Jam Band,Jazz,Music,Pop Rock,Rock
ATTACH;FMTTYPE=image/jpeg:https://sanitylounge.com/wp-content/uploads/2024/10/459849595_10161359217970041_6841672968333871070_n.jpg
END:VEVENT
END:VCALENDAR