BEGIN:VCALENDAR
VERSION:2.0
PRODID:-//Sanity Lounge - ECPv6.15.12.2//NONSGML v1.0//EN
CALSCALE:GREGORIAN
METHOD:PUBLISH
X-WR-CALNAME:Sanity Lounge
X-ORIGINAL-URL:https://sanitylounge.com
X-WR-CALDESC:Events for Sanity Lounge
REFRESH-INTERVAL;VALUE=DURATION:PT1H
X-Robots-Tag:noindex
X-PUBLISHED-TTL:PT1H
BEGIN:VTIMEZONE
TZID:UTC
BEGIN:STANDARD
TZOFFSETFROM:+0000
TZOFFSETTO:+0000
TZNAME:UTC
DTSTART:20230101T000000
END:STANDARD
END:VTIMEZONE
BEGIN:VEVENT
DTSTART;TZID=UTC:20241023T180000
DTEND;TZID=UTC:20241023T200000
DTSTAMP:20260424T145549
CREATED:20241010T094127Z
LAST-MODIFIED:20241010T094159Z
UID:10000528-1729706400-1729713600@sanitylounge.com
SUMMARY:Charm City Porch Concert feat. Madisun Bailey
DESCRIPTION:Early Charm presents:  A traveling concert series in Baltimore City featuring a different artist twice a month on a neighborhood porch (or in this case\, a parking lot!)
URL:https://sanitylounge.com/new-event/charm-city-porch-concert-feat-madisun-bailey/
LOCATION:Early Charm – 1300 Bayard St\, Baltimore\, MD 21230\, Early Charm - 1300 Bayard St\, Baltimore\, MD 21230
ATTACH;FMTTYPE=image/jpeg:https://sanitylounge.com/wp-content/uploads/2024/09/Madisun.jpeg
END:VEVENT
BEGIN:VEVENT
DTSTART;TZID=UTC:20241023T193000
DTEND;TZID=UTC:20241023T230000
DTSTAMP:20260424T145549
CREATED:20241019T011557Z
LAST-MODIFIED:20241019T011803Z
UID:10000863-1729711800-1729724400@sanitylounge.com
SUMMARY:Ricky Wise Trio @ The Collective Encore
DESCRIPTION:The Collective Encore with The Ricky Wise Trio\, featuring James O’Connell & Jeff Reed! Come see all the fun we’ve been getting up to\, it’s a whole lotta music!!
URL:https://sanitylounge.com/new-event/ricky-wise-trio-the-collective-encore/
LOCATION:The Collective Encore
CATEGORIES:Blues,Funk
END:VEVENT
BEGIN:VEVENT
DTSTART;TZID=UTC:20241024T210000
DTEND;TZID=UTC:20241024T235900
DTSTAMP:20260424T145549
CREATED:20241019T132636Z
LAST-MODIFIED:20241019T132915Z
UID:10000868-1729803600-1729814340@sanitylounge.com
SUMMARY:Karaoke with Devon! @ The Brass Tap Baltimore
DESCRIPTION:Karaoke with Devon!\n\n\nBaltimore’s best drag queen leads a rousing round of Karaoke – every Thursday from 9pm to close! Sing your heart out…and enjoy a fantastic late night happy hour!
URL:https://sanitylounge.com/new-event/karaoke-with-devon-the-brass-tap-baltimore/2024-10-24/
CATEGORIES:Drag,Karaoke,Music
END:VEVENT
BEGIN:VEVENT
DTSTART;TZID=UTC:20241025T170000
DTEND;TZID=UTC:20241025T200000
DTSTAMP:20260424T145549
CREATED:20241019T131911Z
LAST-MODIFIED:20241019T131911Z
UID:10000866-1729875600-1729886400@sanitylounge.com
SUMMARY:Madisun Bailey @ The Valley Inn - Timonium
DESCRIPTION:
URL:https://sanitylounge.com/new-event/madisun-bailey-the-valley-inn-timonium/
LOCATION:The Valley Inn\, 10501 Falls Rd\, Lutherville-Timonium\, Maryland\, United States
CATEGORIES:Acoustic,Blues,Funk,Music
ATTACH;FMTTYPE=image/jpeg:https://sanitylounge.com/wp-content/uploads/2024/10/462150187_18054745678866479_8727617949397412807_n.jpg
END:VEVENT
BEGIN:VEVENT
DTSTART;TZID=UTC:20241026T160000
DTEND;TZID=UTC:20241026T180000
DTSTAMP:20260424T145549
CREATED:20241010T093126Z
LAST-MODIFIED:20241010T093126Z
UID:10000526-1729958400-1729965600@sanitylounge.com
SUMMARY:Making Waves @ Sunfest in Ocean City\, MD
DESCRIPTION:
URL:https://sanitylounge.com/new-event/making-waves-sunfest-in-ocean-city-md/
LOCATION:Sunfest in Ocean City\, MD\, Sunfest in Ocean City\, MD
END:VEVENT
BEGIN:VEVENT
DTSTART;TZID=UTC:20241026T180000
DTEND;TZID=UTC:20241026T210000
DTSTAMP:20260424T145549
CREATED:20241019T132123Z
LAST-MODIFIED:20241019T132123Z
UID:10000867-1729965600-1729976400@sanitylounge.com
SUMMARY:Madisun Bailey @ Eastport Yacht Club Halloween Party
DESCRIPTION:Featuring full band!
URL:https://sanitylounge.com/new-event/madisun-bailey-eastport-yacht-club-halloween-party/
CATEGORIES:Acoustic,Blues,Funk,Music
ATTACH;FMTTYPE=image/jpeg:https://sanitylounge.com/wp-content/uploads/2024/10/462150187_18054745678866479_8727617949397412807_n.jpg
END:VEVENT
BEGIN:VEVENT
DTSTART;TZID=UTC:20241027T110000
DTEND;TZID=UTC:20241027T140000
DTSTAMP:20260424T145549
CREATED:20241006T110044Z
LAST-MODIFIED:20241019T010303Z
UID:10000790-1730026800-1730037600@sanitylounge.com
SUMMARY:Eddie Hrybyk Trio with Special Guest Charlie Ballantine @ The Brass Tap Baltimore
DESCRIPTION:Featuring the Eddie Hrybyk trio with special guest Charlie Ballantine\, join us for Baltimore’s hottest brunch – every Sunday from 11am to 2pm! \nThe Brass tap Baltimore
URL:https://sanitylounge.com/new-event/eddie-hrybyk-trio-with-special-guest-charlie-ballantine-the-brass-tap-baltimore/2024-10-27/
LOCATION:The Brass Tap\, 1205 W Mount Royal Ave\, Baltimore\, Maryland\, 21217\, United States
CATEGORIES:Brunch,Jazz,Music
ATTACH;FMTTYPE=image/jpeg:https://sanitylounge.com/wp-content/uploads/2024/09/Charlie.jpeg
END:VEVENT
END:VCALENDAR