BEGIN:VCALENDAR
VERSION:2.0
PRODID:-//Sanity Lounge - ECPv6.15.12.2//NONSGML v1.0//EN
CALSCALE:GREGORIAN
METHOD:PUBLISH
X-WR-CALNAME:Sanity Lounge
X-ORIGINAL-URL:https://sanitylounge.com
X-WR-CALDESC:Events for Sanity Lounge
REFRESH-INTERVAL;VALUE=DURATION:PT1H
X-Robots-Tag:noindex
X-PUBLISHED-TTL:PT1H
BEGIN:VTIMEZONE
TZID:UTC
BEGIN:STANDARD
TZOFFSETFROM:+0000
TZOFFSETTO:+0000
TZNAME:UTC
DTSTART:20230101T000000
END:STANDARD
END:VTIMEZONE
BEGIN:VEVENT
DTSTART;TZID=UTC:20241031T210000
DTEND;TZID=UTC:20241031T235900
DTSTAMP:20260423T020556
CREATED:20241019T132636Z
LAST-MODIFIED:20241019T132915Z
UID:10000869-1730408400-1730419140@sanitylounge.com
SUMMARY:Karaoke with Devon! @ The Brass Tap Baltimore
DESCRIPTION:Karaoke with Devon!\n\n\nBaltimore’s best drag queen leads a rousing round of Karaoke – every Thursday from 9pm to close! Sing your heart out…and enjoy a fantastic late night happy hour!
URL:https://sanitylounge.com/new-event/karaoke-with-devon-the-brass-tap-baltimore/2024-10-31/
CATEGORIES:Drag,Karaoke,Music
END:VEVENT
BEGIN:VEVENT
DTSTART;TZID=UTC:20241101T160000
DTEND;TZID=UTC:20241101T180000
DTSTAMP:20260423T020557
CREATED:20241010T093458Z
LAST-MODIFIED:20241010T093458Z
UID:10000527-1730476800-1730484000@sanitylounge.com
SUMMARY:Making Waves: Stables Halloween Party
DESCRIPTION:
URL:https://sanitylounge.com/new-event/making-waves-stables-halloween-party/
LOCATION:Stables Halloween Party\, Stables Halloween Party
END:VEVENT
BEGIN:VEVENT
DTSTART;TZID=UTC:20241103T110000
DTEND;TZID=UTC:20241103T140000
DTSTAMP:20260423T020557
CREATED:20241019T010720Z
LAST-MODIFIED:20241019T010720Z
UID:10000843-1730631600-1730642400@sanitylounge.com
SUMMARY:Eddie Hrybyk Trio with Special Guest Shaquim Muldrow @ The Brass Tap Baltimore
DESCRIPTION:Featuring the Eddie Hrybyk trio with special guest Shaquim Muldrow\, join us for Baltimore’s hottest brunch – every Sunday from 11am to 2pm! \nThe Brass Tap Baltimore
URL:https://sanitylounge.com/new-event/eddie-hrybyk-trio-with-special-guest-shaquim-muldrow-the-brass-tap-baltimore/2024-11-03/
CATEGORIES:Brunch,Jazz
ATTACH;FMTTYPE=image/jpeg:https://sanitylounge.com/wp-content/uploads/2024/09/Shaquim.jpeg
END:VEVENT
END:VCALENDAR