BEGIN:VCALENDAR
VERSION:2.0
PRODID:-//Sanity Lounge - ECPv6.15.12.2//NONSGML v1.0//EN
CALSCALE:GREGORIAN
METHOD:PUBLISH
X-ORIGINAL-URL:https://sanitylounge.com
X-WR-CALDESC:Events for Sanity Lounge
REFRESH-INTERVAL;VALUE=DURATION:PT1H
X-Robots-Tag:noindex
X-PUBLISHED-TTL:PT1H
BEGIN:VTIMEZONE
TZID:UTC
BEGIN:STANDARD
TZOFFSETFROM:+0000
TZOFFSETTO:+0000
TZNAME:UTC
DTSTART:20230101T000000
END:STANDARD
END:VTIMEZONE
BEGIN:VEVENT
DTSTART;TZID=UTC:20241104T200000
DTEND;TZID=UTC:20241106T000000
DTSTAMP:20260423T035527
CREATED:20241030T135644Z
LAST-MODIFIED:20241114T144307Z
UID:10001393-1730750400-1730851200@sanitylounge.com
SUMMARY:Ricky Wise Trio @ The Admirals Cup
DESCRIPTION:The Ricky Wise Trio: Energetic and Dynamic Rock & Soul Music (feat. Ricky Wise\, drums\, vox; James O’Connell\, guitar\, vox; and Jeff Reed\, bass\, vox) Come join the journey with the music you’ve loved\, and the music we’ll introduce you to. \nwww.rickylovesyou.com
URL:https://sanitylounge.com/new-event/ricky-wise-trio-the-admirals-cup/2024-11-04/
LOCATION:The Admirals Cup\, 1647 Thames St\, Baltimore\, Maryland\, 21231
CATEGORIES:80's Music,Acoustic,Blues,Folk,Funk,Jam Band,Jazz,Music,Pop Rock,Rock
ATTACH;FMTTYPE=image/jpeg:https://sanitylounge.com/wp-content/uploads/2024/10/459849595_10161359217970041_6841672968333871070_n.jpg
END:VEVENT
BEGIN:VEVENT
DTSTART;TZID=UTC:20241107T190000
DTEND;TZID=UTC:20241107T230000
DTSTAMP:20260423T035527
CREATED:20241019T012540Z
LAST-MODIFIED:20241019T012540Z
UID:10000864-1731006000-1731020400@sanitylounge.com
SUMMARY:Battle of the Bands @ The Garage
DESCRIPTION:The Garage’s Battle of the Bands Featuring:Glassphalt\, Ape Index\, Spitball\, Haven\, and Anxiety Monster
URL:https://sanitylounge.com/new-event/battle-of-the-bands-the-garage/
LOCATION:The Garage\, 16915 Darnestown Rd\, Boyds\, MD\, 20841\, United States
CATEGORIES:Music,Punk
ATTACH;FMTTYPE=image/webp:https://sanitylounge.com/wp-content/uploads/2024/10/meta-eyJzcmNCdWNrZXQiOiJiemdsZmlsZXMifQ.jpg.webp
END:VEVENT
BEGIN:VEVENT
DTSTART;TZID=UTC:20241107T210000
DTEND;TZID=UTC:20241107T235900
DTSTAMP:20260423T035527
CREATED:20241019T132636Z
LAST-MODIFIED:20241019T132915Z
UID:10000870-1731013200-1731023940@sanitylounge.com
SUMMARY:Karaoke with Devon! @ The Brass Tap Baltimore
DESCRIPTION:Karaoke with Devon!\n\n\nBaltimore’s best drag queen leads a rousing round of Karaoke – every Thursday from 9pm to close! Sing your heart out…and enjoy a fantastic late night happy hour!
URL:https://sanitylounge.com/new-event/karaoke-with-devon-the-brass-tap-baltimore/2024-11-07/
CATEGORIES:Drag,Karaoke,Music
END:VEVENT
BEGIN:VEVENT
DTSTART;TZID=UTC:20241109T190000
DTEND;TZID=UTC:20241109T233000
DTSTAMP:20260423T035527
CREATED:20241019T012820Z
LAST-MODIFIED:20241019T012918Z
UID:10000865-1731178800-1731195000@sanitylounge.com
SUMMARY:Glassphalt @ Morsbergers
DESCRIPTION:
URL:https://sanitylounge.com/new-event/glassphalt-morsbergers/
LOCATION:Morsbergers\, 713 Frederick Rd\, Catonsville\, MD\, 21228\, United States
CATEGORIES:Music,Punk
ATTACH;FMTTYPE=image/webp:https://sanitylounge.com/wp-content/uploads/2024/10/glass.webp
END:VEVENT
BEGIN:VEVENT
DTSTART;TZID=UTC:20241110T110000
DTEND;TZID=UTC:20241110T140000
DTSTAMP:20260423T035527
CREATED:20241019T010720Z
LAST-MODIFIED:20241019T010720Z
UID:10000844-1731236400-1731247200@sanitylounge.com
SUMMARY:Eddie Hrybyk Trio with Special Guest Shaquim Muldrow @ The Brass Tap Baltimore
DESCRIPTION:Featuring the Eddie Hrybyk trio with special guest Shaquim Muldrow\, join us for Baltimore’s hottest brunch – every Sunday from 11am to 2pm! \nThe Brass Tap Baltimore
URL:https://sanitylounge.com/new-event/eddie-hrybyk-trio-with-special-guest-shaquim-muldrow-the-brass-tap-baltimore/2024-11-10/
CATEGORIES:Brunch,Jazz
ATTACH;FMTTYPE=image/jpeg:https://sanitylounge.com/wp-content/uploads/2024/09/Shaquim.jpeg
END:VEVENT
BEGIN:VEVENT
DTSTART;TZID=UTC:20241110T170000
DTEND;TZID=UTC:20241110T200000
DTSTAMP:20260423T035527
CREATED:20241105T002020Z
LAST-MODIFIED:20241105T003419Z
UID:10001654-1731258000-1731268800@sanitylounge.com
SUMMARY:Bound by Harmony
DESCRIPTION:Join Baltimore’s newest professional choral ensemble for an evocative musical journey that explores the profound connections between humankind and the themes of nature\, faith\, love\, and loss. Experience a powerful performance that celebrates the beauty and complexity of our shared human experience. \nClick Here For Tickets
URL:https://sanitylounge.com/new-event/bound-by-harmony/
LOCATION:Grace and St Peter’s Episcopal Church\, 707 Park Ave\, Baltimore\, Maryland\, 21201
CATEGORIES:Choir,Live Music,Music
ATTACH;FMTTYPE=image/jpeg:https://sanitylounge.com/wp-content/uploads/2024/11/IMG_9936-scaled.jpeg
END:VEVENT
END:VCALENDAR