BEGIN:VCALENDAR
VERSION:2.0
PRODID:-//Sanity Lounge - ECPv6.15.12.2//NONSGML v1.0//EN
CALSCALE:GREGORIAN
METHOD:PUBLISH
X-WR-CALNAME:Sanity Lounge
X-ORIGINAL-URL:https://sanitylounge.com
X-WR-CALDESC:Events for Sanity Lounge
REFRESH-INTERVAL;VALUE=DURATION:PT1H
X-Robots-Tag:noindex
X-PUBLISHED-TTL:PT1H
BEGIN:VTIMEZONE
TZID:UTC
BEGIN:STANDARD
TZOFFSETFROM:+0000
TZOFFSETTO:+0000
TZNAME:UTC
DTSTART:20230101T000000
END:STANDARD
END:VTIMEZONE
BEGIN:VEVENT
DTSTART;TZID=UTC:20241202T200000
DTEND;TZID=UTC:20241204T000000
DTSTAMP:20260422T141717
CREATED:20241030T135644Z
LAST-MODIFIED:20241114T144307Z
UID:10001397-1733169600-1733270400@sanitylounge.com
SUMMARY:Ricky Wise Trio @ The Admirals Cup
DESCRIPTION:The Ricky Wise Trio: Energetic and Dynamic Rock & Soul Music (feat. Ricky Wise\, drums\, vox; James O’Connell\, guitar\, vox; and Jeff Reed\, bass\, vox) Come join the journey with the music you’ve loved\, and the music we’ll introduce you to. \nwww.rickylovesyou.com
URL:https://sanitylounge.com/new-event/ricky-wise-trio-the-admirals-cup/2024-12-02/
LOCATION:The Admirals Cup\, 1647 Thames St\, Baltimore\, Maryland\, 21231
CATEGORIES:80's Music,Acoustic,Blues,Folk,Funk,Jam Band,Jazz,Music,Pop Rock,Rock
ATTACH;FMTTYPE=image/jpeg:https://sanitylounge.com/wp-content/uploads/2024/10/459849595_10161359217970041_6841672968333871070_n.jpg
END:VEVENT
BEGIN:VEVENT
DTSTART;TZID=UTC:20241205T190000
DTEND;TZID=UTC:20241205T220000
DTSTAMP:20260422T141717
CREATED:20241019T204531Z
LAST-MODIFIED:20241117T151013Z
UID:10001131-1733425200-1733436000@sanitylounge.com
SUMMARY:Sam Morrow w/ Special Guest Whiskey Feathers @ Elkton Music Hall
DESCRIPTION:Sam Morrow w/ special guest Whiskey Feathers
URL:https://sanitylounge.com/new-event/sam-morrow-w-special-guest-whiskey-feathers-elton-music-hall/
LOCATION:Elkton Music Hall\, 107 North St\, Elkton\, Maryland\, 21921
CATEGORIES:Folk,Music,Rock
ATTACH;FMTTYPE=image/jpeg:https://sanitylounge.com/wp-content/uploads/2024/10/123_1.jpeg
END:VEVENT
BEGIN:VEVENT
DTSTART;TZID=UTC:20241205T210000
DTEND;TZID=UTC:20241205T235900
DTSTAMP:20260422T141717
CREATED:20241019T132636Z
LAST-MODIFIED:20241019T132915Z
UID:10000874-1733432400-1733443140@sanitylounge.com
SUMMARY:Karaoke with Devon! @ The Brass Tap Baltimore
DESCRIPTION:Karaoke with Devon!\n\n\nBaltimore’s best drag queen leads a rousing round of Karaoke – every Thursday from 9pm to close! Sing your heart out…and enjoy a fantastic late night happy hour!
URL:https://sanitylounge.com/new-event/karaoke-with-devon-the-brass-tap-baltimore/2024-12-05/
CATEGORIES:Drag,Karaoke,Music
END:VEVENT
BEGIN:VEVENT
DTSTART;TZID=UTC:20241208T110000
DTEND;TZID=UTC:20241208T140000
DTSTAMP:20260422T141717
CREATED:20241019T011052Z
LAST-MODIFIED:20241019T011232Z
UID:10000859-1733655600-1733666400@sanitylounge.com
SUMMARY:Eddie Hrybyk Trio with Special Guest Charlie Ballantine @ The Brass Tap Baltimore
DESCRIPTION:Featuring the Eddie Hrybyk trio with special guest Charlie Ballantine\, join us for Baltimore’s hottest brunch – every Sunday from 11am to 2pm! \nThe Brass Tap Baltimore
URL:https://sanitylounge.com/new-event/eddie-hrybyk-trio-with-special-guest-charlie-ballantine-the-brass-tap-baltimore-3/2024-12-08/
CATEGORIES:Brunch,Jazz
ATTACH;FMTTYPE=image/jpeg:https://sanitylounge.com/wp-content/uploads/2024/09/Charlie.jpeg
END:VEVENT
END:VCALENDAR